BEGIN:VCALENDAR
VERSION:2.0
PRODID:-//ChamberMaster//Event Calendar 2.0//EN
METHOD:PUBLISH
X-PUBLISHED-TTL:P3D
REFRESH-INTERVAL:P3D
CALSCALE:GREGORIAN
BEGIN:VEVENT
DTSTART:20100826T170000Z
DTEND:20100826T180000Z
X-MICROSOFT-CDO-ALLDAYEVENT:FALSE
SUMMARY:Processing TEST
DESCRIPTION:
X-ALT-DESC;FMTTYPE=text/html:<DIV><SPAN style="FONT-SIZE: 11pt\; COLOR: black\; FONT-FAMILY: 'Tempus Sans ITC'"></SPAN>&nbsp\;<P><?xml:namespace prefix = u2 /><u2:p></u2:p></P></DIV>
LOCATION:Garland Chamber of Commerce
UID:e.2096.813
SEQUENCE:3
DTSTAMP:20260423T064508Z
URL:https://network.garlandchamber.com/events/details/processing-test-08-26-2010-813
END:VEVENT

END:VCALENDAR
