BEGIN:VCALENDAR
VERSION:2.0
PRODID:-//ChamberMaster//Event Calendar 2.0//EN
METHOD:PUBLISH
X-PUBLISHED-TTL:P3D
REFRESH-INTERVAL:P3D
CALSCALE:GREGORIAN
BEGIN:VEVENT
DTSTART:20111018T160000Z
DTEND:20111018T180000Z
X-MICROSOFT-CDO-ALLDAYEVENT:FALSE
SUMMARY:Prospecting In Today's Economy!
DESCRIPTION:
X-ALT-DESC;FMTTYPE=text/html:
LOCATION:Garland Chamber of Commerce
UID:e.2096.962
SEQUENCE:3
DTSTAMP:20260422T121325Z
URL:https://network.garlandchamber.com/events/details/prospecting-in-today-s-economy-10-18-2011-962
END:VEVENT

END:VCALENDAR
