BEGIN:VCALENDAR
VERSION:2.0
PRODID:-//ChamberMaster//Event Calendar 2.0//EN
METHOD:PUBLISH
X-PUBLISHED-TTL:P3D
REFRESH-INTERVAL:P3D
CALSCALE:GREGORIAN
BEGIN:VEVENT
DTSTART:20121101T223000Z
DTEND:20121102T003000Z
X-MICROSOFT-CDO-ALLDAYEVENT:FALSE
SUMMARY:''Protecting Your Business From Fraud'' Seminar
DESCRIPTION:Frost Bank presents an informative session "Protecting Your Business From Fraud" Presented by:\nSandy Sullivan\, CFESenior Vice PresidentFraud Management See the Event Flyer for additional information\, including how to RSVP
X-ALT-DESC;FMTTYPE=text/html:<DIV style="FONT-FAMILY: Arial">Frost Bank presents an informative session</DIV><DIV style="FONT-FAMILY: Arial">&nbsp\;</DIV><DIV style="FONT-FAMILY: Arial">"Protecting Your Business From Fraud"</DIV><DIV style="FONT-FAMILY: Arial">&nbsp\;</DIV><DIV style="FONT-FAMILY: Arial">Presented by:<BR>Sandy Sullivan\, CFE</DIV><DIV style="FONT-FAMILY: Arial">Senior Vice President</DIV><DIV style="FONT-FAMILY: Arial">Fraud Management</DIV><DIV style="FONT-FAMILY: Arial">&nbsp\;</DIV><DIV style="FONT-FAMILY: Arial"><A dataFld=0:0 href="http://www.garlandchamber.com/images/stories/chamber/Member%20Promotions/Frost%20Fraud%20Seminar%20Invite%20-%20November%202012.pdf">See the Event Flyer</A>&nbsp\;for additional information\, including how to RSVP</DIV>
LOCATION:The Generator Coffee House & Bakery
UID:e.2096.1105
SEQUENCE:3
DTSTAMP:20260421T162346Z
URL:https://network.garlandchamber.com/events/details/protecting-your-business-from-fraud-seminar-11-01-2012-1105
END:VEVENT

END:VCALENDAR
