BEGIN:VCALENDAR
VERSION:2.0
PRODID:-//ChamberMaster//Event Calendar 2.0//EN
METHOD:PUBLISH
X-PUBLISHED-TTL:P3D
REFRESH-INTERVAL:P3D
CALSCALE:GREGORIAN
BEGIN:VEVENT
DTSTART:20100827T210000Z
DTEND:20100827T230000Z
X-MICROSOFT-CDO-ALLDAYEVENT:FALSE
SUMMARY:PWAT Grand Opening Celebration
DESCRIPTION:
X-ALT-DESC;FMTTYPE=text/html:
LOCATION:Painting with a Twist - Garland
UID:e.2096.811
SEQUENCE:3
DTSTAMP:20260423T064721Z
URL:https://network.garlandchamber.com/events/details/pwat-grand-opening-celebration-08-27-2010-811
END:VEVENT

END:VCALENDAR
