BEGIN:VCALENDAR
VERSION:2.0
PRODID:-//ChamberMaster//Event Calendar 2.0//EN
METHOD:PUBLISH
X-PUBLISHED-TTL:P3D
REFRESH-INTERVAL:P3D
CALSCALE:GREGORIAN
BEGIN:VEVENT
DTSTART:20090617T133000Z
DTEND:20090617T170000Z
X-MICROSOFT-CDO-ALLDAYEVENT:FALSE
SUMMARY:Quality High Tech Education Smart Session
DESCRIPTION:
X-ALT-DESC;FMTTYPE=text/html:
LOCATION:Brookhaven Country Club
UID:e.2096.677
SEQUENCE:3
DTSTAMP:20260424T023137Z
URL:https://network.garlandchamber.com/events/details/quality-high-tech-education-smart-session-06-17-2009-677
END:VEVENT

END:VCALENDAR
