BEGIN:VCALENDAR
VERSION:2.0
PRODID:-//ChamberMaster//Event Calendar 2.0//EN
METHOD:PUBLISH
X-PUBLISHED-TTL:P3D
REFRESH-INTERVAL:P3D
CALSCALE:GREGORIAN
BEGIN:VEVENT
DTSTART:20090515T213000Z
DTEND:20090515T233000Z
X-MICROSOFT-CDO-ALLDAYEVENT:FALSE
SUMMARY:Randall Reed's Prestige Ford Lincoln Mercury Grand Opening
DESCRIPTION:
X-ALT-DESC;FMTTYPE=text/html:
LOCATION:Randall Reed's Prestige Ford
UID:e.2096.665
SEQUENCE:3
DTSTAMP:20260424T040910Z
URL:https://network.garlandchamber.com/events/details/randall-reed-s-prestige-ford-lincoln-mercury-grand-opening-05-15-2009-665
END:VEVENT

END:VCALENDAR
