BEGIN:VCALENDAR
VERSION:2.0
PRODID:-//ChamberMaster//Event Calendar 2.0//EN
METHOD:PUBLISH
X-PUBLISHED-TTL:P3D
REFRESH-INTERVAL:P3D
CALSCALE:GREGORIAN
BEGIN:VEVENT
DTSTART:20120118T230000Z
DTEND:20120119T023000Z
X-MICROSOFT-CDO-ALLDAYEVENT:FALSE
SUMMARY:RC Cencor Realty (Oakridge Plaza)
DESCRIPTION:Ribbon Cutting and The Year of The Dragon Celebration: Entrepreneurial Speaking Event Enter to Win a 2012 Mercedes C250 Sports Sedan\, Free Radio and Print Advertising\, Learn About Free Rent from Cencor Realty Services and Much More.
X-ALT-DESC;FMTTYPE=text/html:<DIV style="FONT-FAMILY: Arial" align=center>Ribbon Cutting and The Year of The Dragon Celebration: Entrepreneurial Speaking Event</DIV><DIV style="FONT-FAMILY: Arial" align=center>&nbsp\;</DIV><DIV style="FONT-FAMILY: Arial" align=center>Enter to Win a 2012 Mercedes C250 Sports Sedan\, Free Radio and Print Advertising\, Learn About Free Rent from Cencor Realty Services and Much More.</DIV>
LOCATION:Oakridge Plaza
UID:e.2096.990
SEQUENCE:3
DTSTAMP:20260422T075609Z
URL:https://network.garlandchamber.com/events/details/rc-cencor-realty-oakridge-plaza-01-18-2012-990
END:VEVENT

END:VCALENDAR
