BEGIN:VCALENDAR
VERSION:2.0
PRODID:-//ChamberMaster//Event Calendar 2.0//EN
METHOD:PUBLISH
X-PUBLISHED-TTL:P3D
REFRESH-INTERVAL:P3D
CALSCALE:GREGORIAN
BEGIN:VEVENT
DTSTART:20101207T173000Z
DTEND:20101207T191500Z
X-MICROSOFT-CDO-ALLDAYEVENT:FALSE
SUMMARY:Re-Engineering Your Company for Accelerated Growth
DESCRIPTION:
X-ALT-DESC;FMTTYPE=text/html:<DIV>&nbsp\;</DIV>
LOCATION:Rowlett Chamber of Commerce
UID:e.2096.814
SEQUENCE:3
DTSTAMP:20260423T024240Z
URL:https://network.garlandchamber.com/events/details/re-engineering-your-company-for-accelerated-growth-12-07-2010-814
END:VEVENT

END:VCALENDAR
