BEGIN:VCALENDAR
VERSION:2.0
PRODID:-//ChamberMaster//Event Calendar 2.0//EN
METHOD:PUBLISH
X-PUBLISHED-TTL:P3D
REFRESH-INTERVAL:P3D
CALSCALE:GREGORIAN
BEGIN:VEVENT
DTSTART:20130327T190000Z
DTEND:20130327T210000Z
X-MICROSOFT-CDO-ALLDAYEVENT:FALSE
SUMMARY:Realistic Retail Solutions Seminar
DESCRIPTION:Attend the "Realistic Retail Solutions" seminar with speaker Marc Willson\, Retail Consultant for the Virginia Small Business Development Center and Principal at The Willson Company. Willson will present Seven Simple Strategies to Boost Sales and will teach attendees how to create effective window dressings and visual merchandising\, personalize the customer experience\, retain customers and more! Register for the seminar online at www.eventbrite.com/event/5835513177  Willson will also offer six one-on-one\, one-hour counseling sessions on March 28 for businesses desiring additional retail solutions. Known as an operations expert\, Willson has 35 years of retail experience and has counseled countless retailers in best practices\, financials\, marketing\, customer service\, merchandising\, buying and social media. Contact Kisha Allen at (469) 326-7454 or kisha.allen@garlandchamber.com to schedule an appointment.
X-ALT-DESC;FMTTYPE=text/html:<DIV style="FONT-FAMILY: Arial">Attend the "Realistic Retail Solutions" seminar with speaker Marc Willson\, Retail Consultant for the Virginia Small Business Development Center and Principal at The Willson Company.</DIV><DIV style="FONT-FAMILY: Arial">&nbsp\;</DIV><DIV style="FONT-FAMILY: Arial">Willson will present Seven Simple Strategies to Boost Sales and will teach attendees how to create effective window dressings and visual merchandising\, personalize the customer experience\, retain customers and more!</DIV><DIV style="FONT-FAMILY: Arial">&nbsp\;</DIV><DIV style="FONT-FAMILY: Arial">Register for the seminar online at <A href="http://www.eventbrite.com/event/5835513177">www.eventbrite.com/event/5835513177</A> </DIV><DIV style="FONT-FAMILY: Arial">&nbsp\;</DIV><DIV style="FONT-FAMILY: Arial">Willson will also offer six one-on-one\, one-hour counseling sessions on March 28 for businesses desiring additional retail solutions. Known as an operations expert\, Willson has 35 years of retail experience and has counseled countless retailers in best practices\, financials\, marketing\, customer service\, merchandising\, buying and social media.</DIV><DIV style="FONT-FAMILY: Arial">&nbsp\;</DIV><DIV style="FONT-FAMILY: Arial">Contact Kisha Allen at (469) 326-7454 or <A href="mailto:kisha.allen@garlandchamber.com">kisha.allen@garlandchamber.com</A> to schedule an appointment.</DIV>
LOCATION:Garland Chamber of Commerce
UID:e.2096.1169
SEQUENCE:3
DTSTAMP:20260421T102440Z
URL:https://network.garlandchamber.com/events/details/realistic-retail-solutions-seminar-03-27-2013-1169
END:VEVENT

END:VCALENDAR
