BEGIN:VCALENDAR
VERSION:2.0
PRODID:-//ChamberMaster//Event Calendar 2.0//EN
METHOD:PUBLISH
X-PUBLISHED-TTL:P3D
REFRESH-INTERVAL:P3D
CALSCALE:GREGORIAN
BEGIN:VEVENT
DTSTART:20090509T140000Z
DTEND:20090509T170000Z
X-MICROSOFT-CDO-ALLDAYEVENT:FALSE
SUMMARY:Recycling Event - Electronics and Much more
DESCRIPTION:NAAMAN FOREST Class of 2010 has partnered \nin the Ultimate Recycling Program\n\nDonate your used orunwanted items to support our organization. Items may be in any condition – damaged\, non-working\, orfully operational. Check the list to get started!\n\nWhat can I bring?? Here is the complete ItemList\nComputers\nDesktops\, laptops\, servers\, monitors\, keyboards\, mice\, speakers\, and all other computer components.\nCameras\nCamcorders and all non-disposable film and digital cameras.\nOffice Equipment\nFax machines\, typewriters\, inkjet cartridges\, printers\, scanners\, routers\, shredders\, and copiers.\nEntertainment Electronics\nCar and home audio equipment\, satellite and cable boxes\, VCRs\, DVDplayers and recorders\, headphones\, and multimedia projectors.\nMultimedia\nDVD and VHS movies\, audiobooks\, and music CDs. All multimedia items must include original covers.\nPortable Electronics\nCell phones\, GPS devices\, calculators\, portable CD and DVD players\, PDAs\, and MP3 Players.\nVideo Games\nVideo games\, systems\, and accessories.\nSporting Goods\nGolf clubs and bags\, athletichelmets and pads\, baseball bats and gloves\, basketball shoes\, cleats\, hockey sticks\, ice skates\, androller blades.\nMusical Instruments\nGuitars\, percussion\, strings\, woodwinds\, brass\, and electrickeyboards.\nHome and Garden\nAir purifiers\, baby monitors\, vacuum cleaners\, power tools\, electric razors\, sewing machines\, & medical equipment.\nNon-Fiction Books\nCookbooks\, craft books\, textbooks\, etc.\nCollectibles\nComics\, Figurines\, Trading Cards\, etc.\nPottery\, Cookware & Glass Dinnerware\nChina\, Porcelain\, Art Pottery\, Stoneware\, etc.\nGold & Silver\nJewelry\nCostume Jewelry\, Watches\,and Handcrafted Jewelry\nVehicles\nCars\, Trucks\, Boats\, Motorcycles\, Trailers and RV's at www.bubbfundraising.com\nATV's\nDirt Bikes\, Go-Karts\, 4 Wheelers\, 3 Wheelers\, and Jet Skis\n\nYour donations help ensure proper recycling of e-waste and save valuable landfill space. Thank you for joining withus!  \n\nPick-ups can be arranged.  Contact nfhs2010@yahoo.com or call 214-674-9024 before May 9 or\nDROP OFF scheduled May 9 from 9-12 a.m. at Capital One
X-ALT-DESC;FMTTYPE=text/html:NAAMAN FOREST Class of 2010 has partnered \nin the Ultimate Recycling Program\n\nDonate your used orunwanted items to support our organization. Items may be in any condition – damaged\, non-working\, orfully operational. Check the list to get started!\n\nWhat can I bring?? Here is the complete ItemList\nComputers\nDesktops\, laptops\, servers\, monitors\, keyboards\, mice\, speakers\, and all other computer components.\nCameras\nCamcorders and all non-disposable film and digital cameras.\nOffice Equipment\nFax machines\, typewriters\, inkjet cartridges\, printers\, scanners\, routers\, shredders\, and copiers.\nEntertainment Electronics\nCar and home audio equipment\, satellite and cable boxes\, VCRs\, DVDplayers and recorders\, headphones\, and multimedia projectors.\nMultimedia\nDVD and VHS movies\, audiobooks\, and music CDs. All multimedia items must include original covers.\nPortable Electronics\nCell phones\, GPS devices\, calculators\, portable CD and DVD players\, PDAs\, and MP3 Players.\nVideo Games\nVideo games\, systems\, and accessories.\nSporting Goods\nGolf clubs and bags\, athletichelmets and pads\, baseball bats and gloves\, basketball shoes\, cleats\, hockey sticks\, ice skates\, androller blades.\nMusical Instruments\nGuitars\, percussion\, strings\, woodwinds\, brass\, and electrickeyboards.\nHome and Garden\nAir purifiers\, baby monitors\, vacuum cleaners\, power tools\, electric razors\, sewing machines\, & medical equipment.\nNon-Fiction Books\nCookbooks\, craft books\, textbooks\, etc.\nCollectibles\nComics\, Figurines\, Trading Cards\, etc.\nPottery\, Cookware & Glass Dinnerware\nChina\, Porcelain\, Art Pottery\, Stoneware\, etc.\nGold & Silver\nJewelry\nCostume Jewelry\, Watches\,and Handcrafted Jewelry\nVehicles\nCars\, Trucks\, Boats\, Motorcycles\, Trailers and RV's at www.bubbfundraising.com\nATV's\nDirt Bikes\, Go-Karts\, 4 Wheelers\, 3 Wheelers\, and Jet Skis\n\nYour donations help ensure proper recycling of e-waste and save valuable landfill space. Thank you for joining withus!  \n\nPick-ups can be arranged.  Contact nfhs2010@yahoo.com or call 214-674-9024 before May 9 or\nDROP OFF scheduled May 9 from 9-12 a.m. at Capital One\n
LOCATION:Capital One parking lot
UID:e.2096.18
SEQUENCE:3
DTSTAMP:20260424T051201Z
URL:https://network.garlandchamber.com/events/details/recycling-event-electronics-and-much-more-05-09-2009-18
END:VEVENT

END:VCALENDAR
