BEGIN:VCALENDAR
VERSION:2.0
PRODID:-//ChamberMaster//Event Calendar 2.0//EN
METHOD:PUBLISH
X-PUBLISHED-TTL:P3D
REFRESH-INTERVAL:P3D
CALSCALE:GREGORIAN
BEGIN:VEVENT
DTSTART:20110518T130000Z
DTEND:20110518T050000Z
X-MICROSOFT-CDO-ALLDAYEVENT:FALSE
SUMMARY:Refresh Leadership Simulcast
DESCRIPTION:Registration is required. For more information and to register\, contact johnny.clark@expresspros.com in the Garland Express Employment Professionals!Johnny Clark\n1750 E. Northwest Highway #240B\nGarland\, Texas                                                                                                                                                          Office: 972-681-1609/ Cell: 432-528-0146
X-ALT-DESC;FMTTYPE=text/html:<P><SPAN style="FONT-FAMILY: 'Tahoma'\,'sans-serif'\; COLOR: #4d4d4d\; FONT-SIZE: 10pt"><FONT face=Arial><FONT color=#0f0f0f>Registration is required. For more information and to register\, contact</FONT> </FONT></SPAN></P><P><SPAN style="FONT-FAMILY: 'Tahoma'\,'sans-serif'\; COLOR: #4d4d4d\; FONT-SIZE: 10pt"><A href="mailto:johnny.clark@expresspros.com"><FONT face=Arial>johnny.clark@expresspros.com</FONT></A><FONT face=Arial> <FONT color=#0f0f0f>in the <?xml:namespace prefix = st1 ns = "urn:schemas-microsoft-com:office:smarttags" /><st1:place w:st="on"><st1:City w:st="on"><B style="mso-bidi-font-weight: normal">Garland</B></st1:City></st1:place> Express Employment Professionals!</FONT></FONT></SPAN></P><SPAN style="FONT-FAMILY: 'Tahoma'\,'sans-serif'\; COLOR: #4d4d4d\; FONT-SIZE: 10pt"><FONT color=#0f0f0f><?xml:namespace prefix = o ns = "urn:schemas-microsoft-com:office:office" /><o:p><P><SPAN><FONT color=#0f0f0f face=Arial>Johnny Clark<BR>1750 E. Northwest Highway #240B<BR><st1:City w:st="on">Garland</st1:City>\, <st1:State w:st="on"><st1:place w:st="on">Texas&nbsp\;&nbsp\;&nbsp\;&nbsp\;&nbsp\;&nbsp\; </st1:place></st1:State>&nbsp\;&nbsp\;&nbsp\;&nbsp\;&nbsp\;&nbsp\;&nbsp\;&nbsp\;&nbsp\;&nbsp\;&nbsp\;&nbsp\;&nbsp\;&nbsp\;&nbsp\;&nbsp\;&nbsp\;&nbsp\;&nbsp\;&nbsp\;&nbsp\;&nbsp\;&nbsp\;&nbsp\;&nbsp\;&nbsp\;&nbsp\;&nbsp\;&nbsp\;&nbsp\;&nbsp\;&nbsp\;&nbsp\;&nbsp\;&nbsp\;&nbsp\;&nbsp\;&nbsp\;&nbsp\;&nbsp\;&nbsp\;&nbsp\;&nbsp\;&nbsp\;&nbsp\;&nbsp\;&nbsp\;&nbsp\;&nbsp\;&nbsp\;&nbsp\;&nbsp\;&nbsp\;&nbsp\;&nbsp\;&nbsp\;&nbsp\;&nbsp\;&nbsp\;&nbsp\;&nbsp\;&nbsp\;&nbsp\;&nbsp\;&nbsp\;&nbsp\;&nbsp\;&nbsp\;&nbsp\;&nbsp\;&nbsp\;&nbsp\;&nbsp\;&nbsp\;&nbsp\;&nbsp\;&nbsp\;&nbsp\;&nbsp\;&nbsp\;&nbsp\;&nbsp\;&nbsp\;&nbsp\;&nbsp\;&nbsp\;&nbsp\;&nbsp\;&nbsp\;&nbsp\;&nbsp\;&nbsp\;&nbsp\;&nbsp\;&nbsp\;&nbsp\;&nbsp\;&nbsp\;&nbsp\;&nbsp\;&nbsp\;&nbsp\;&nbsp\;&nbsp\;&nbsp\;&nbsp\;&nbsp\;&nbsp\;&nbsp\;&nbsp\;&nbsp\;&nbsp\;&nbsp\;&nbsp\;&nbsp\;&nbsp\;&nbsp\;&nbsp\;&nbsp\;&nbsp\;&nbsp\;&nbsp\;&nbsp\;&nbsp\;&nbsp\;&nbsp\;&nbsp\;&nbsp\;&nbsp\;&nbsp\;&nbsp\;&nbsp\;&nbsp\;&nbsp\;&nbsp\;&nbsp\;&nbsp\;&nbsp\;&nbsp\;&nbsp\;&nbsp\;&nbsp\;&nbsp\;&nbsp\;&nbsp\;&nbsp\; Office: 972-681-1609/ Cell: 432-528-0146</FONT></SPAN></P><P><B style="mso-bidi-font-weight: normal"><SPAN style="FONT-FAMILY: 'Tahoma'\,'sans-serif'\; COLOR: #4d4d4d\; FONT-SIZE: 10pt"><o:p></o:p></SPAN></B>&nbsp\;</P><P></o:p></FONT></SPAN>&nbsp\;</P>
LOCATION:Garland ISD Harris Hill Administration Building
UID:e.2096.920
SEQUENCE:3
DTSTAMP:20260422T175437Z
URL:https://network.garlandchamber.com/events/details/refresh-leadership-simulcast-05-18-2011-920
END:VEVENT

END:VCALENDAR
