BEGIN:VCALENDAR
VERSION:2.0
PRODID:-//ChamberMaster//Event Calendar 2.0//EN
METHOD:PUBLISH
X-PUBLISHED-TTL:P3D
REFRESH-INTERVAL:P3D
CALSCALE:GREGORIAN
BEGIN:VEVENT
DTSTART:20120628T163000Z
DTEND:20120628T200000Z
X-MICROSOFT-CDO-ALLDAYEVENT:FALSE
SUMMARY:Remington College Career Fair
DESCRIPTION:Your easy\, no cost hiring solution. Remington College will host a Career Fair on Thursday\, June 28\, 2012 from 11:30 a.m. to 3 p.m. Meet potential candidates in person and narrow your search quickly. See Additional Details
X-ALT-DESC;FMTTYPE=text/html:<DIV style="FONT-FAMILY: Arial">Your easy\, no cost hiring solution.</DIV><DIV style="FONT-FAMILY: Arial">&nbsp\;</DIV><DIV style="FONT-FAMILY: Arial">Remington College will host a Career Fair on Thursday\, June 28\, 2012 from 11:30 a.m. to 3 p.m. Meet potential candidates in person and narrow your search quickly.</DIV><DIV style="FONT-FAMILY: Arial">&nbsp\;</DIV><DIV style="FONT-FAMILY: Arial"><A dataFld=0:0 href="http://www.garlandchamber.com/images/stories/chamber/Remington%20Career%20Fair%20Flyer.pdf">See Additional Details</A></DIV>
LOCATION:Remington College
UID:e.2096.1045
SEQUENCE:3
DTSTAMP:20260422T010454Z
URL:https://network.garlandchamber.com/events/details/remington-college-career-fair-06-28-2012-1045
END:VEVENT

END:VCALENDAR
