BEGIN:VCALENDAR
VERSION:2.0
PRODID:-//ChamberMaster//Event Calendar 2.0//EN
METHOD:PUBLISH
X-PUBLISHED-TTL:P3D
REFRESH-INTERVAL:P3D
CALSCALE:GREGORIAN
BEGIN:VEVENT
DTSTART:20080520T153000Z
DTEND:20080520T050000Z
X-MICROSOFT-CDO-ALLDAYEVENT:FALSE
SUMMARY:Remington College Culinary Arts Restaurant
DESCRIPTION:
X-ALT-DESC;FMTTYPE=text/html:
LOCATION:Remington College
UID:e.2096.534
SEQUENCE:3
DTSTAMP:20260424T200706Z
URL:https://network.garlandchamber.com/events/details/remington-college-culinary-arts-restaurant-05-20-2008-534
END:VEVENT

END:VCALENDAR
