BEGIN:VCALENDAR
VERSION:2.0
PRODID:-//ChamberMaster//Event Calendar 2.0//EN
METHOD:PUBLISH
X-PUBLISHED-TTL:P3D
REFRESH-INTERVAL:P3D
CALSCALE:GREGORIAN
BEGIN:VEVENT
DTSTART:20120712T163000Z
DTEND:20120712T173000Z
X-MICROSOFT-CDO-ALLDAYEVENT:FALSE
SUMMARY:Ribbon Cutting: Broadway Pharmacy
DESCRIPTION:BROADWAY PHARMACYGRAND OPENING!THURSDAY\, JULY 12TH!RIBBON CUTTING BY CHAMBER OF COMMERCE @ 11:30a.m HEALTH SCREENINGS15% OFF ON ALL OTC PRODUCTS  YOUR FRIENDLY NEIGHBORHOOD PHARMACY WITH FAST & EXCELLENT SERVICES!INCLUDING COMPOUNDING\, FREE DELIVERY\, LOW PRICES\, MATCH MOST COMPETITOR PRICES. 3334 BROADWAY BLVD #412GARLAND\, TX 75043Phone: (972) 278-9742FAX: (972)278-9743 BUSINESS HOURSMon-Fri:  9:30a – 6pSat:  11a – 2p
X-ALT-DESC;FMTTYPE=text/html:<P style="TEXT-ALIGN: center\; LINE-HEIGHT: normal\; MARGIN: 0in 0in 10pt" class=MsoNormal align=center><B style="mso-bidi-font-weight: normal"><SPAN style="FONT-FAMILY: 'Times New Roman'\,'serif'\; FONT-SIZE: 10pt\; mso-fareast-font-family: 'Times New Roman'">BROADWAY PHARMACY<?xml:namespace prefix = o ns = "urn:schemas-microsoft-com:office:office" /><o:p></o:p></SPAN></B></P><P style="TEXT-ALIGN: center\; LINE-HEIGHT: normal\; MARGIN: 0in 0.1in 0pt -0.1in" class=MsoNormal align=center><B style="mso-bidi-font-weight: normal"><SPAN style="FONT-FAMILY: 'Times New Roman'\,'serif'\; FONT-SIZE: 10pt\; mso-fareast-font-family: 'Times New Roman'">GRAND OPENING!<o:p></o:p></SPAN></B></P><P style="TEXT-ALIGN: center\; LINE-HEIGHT: normal\; MARGIN: 0in 0.1in 0pt -0.1in" class=MsoNormal align=center><B style="mso-bidi-font-weight: normal"><SPAN style="FONT-FAMILY: 'Times New Roman'\,'serif'\; FONT-SIZE: 10pt\; mso-fareast-font-family: 'Times New Roman'">THURSDAY\, JULY 12<SUP>TH</SUP>!<o:p></o:p></SPAN></B></P><P style="TEXT-ALIGN: center\; LINE-HEIGHT: normal\; MARGIN: 0in 0in 0pt" class=MsoNormal align=center><B style="mso-bidi-font-weight: normal"><SPAN style="FONT-FAMILY: 'Times New Roman'\,'serif'\; FONT-SIZE: 10pt\; mso-fareast-font-family: 'Times New Roman'">RIBBON CUTTING BY CHAMBER OF COMMERCE @ 11:30a.m<o:p></o:p></SPAN></B></P><P style="TEXT-ALIGN: center\; LINE-HEIGHT: normal\; MARGIN: 0in 0in 0pt" class=MsoNormal align=center><B style="mso-bidi-font-weight: normal"><SPAN style="FONT-FAMILY: 'Times New Roman'\,'serif'\; FONT-SIZE: 10pt\; mso-fareast-font-family: 'Times New Roman'"></SPAN></B>&nbsp\;</P><P style="TEXT-ALIGN: center\; LINE-HEIGHT: normal\; MARGIN: 0in 0in 0pt" class=MsoNormal align=center><B style="mso-bidi-font-weight: normal"><SPAN style="FONT-FAMILY: 'Times New Roman'\,'serif'\; FONT-SIZE: 10pt\; mso-fareast-font-family: 'Times New Roman'">HEALTH SCREENINGS<o:p></o:p></SPAN></B></P><P style="TEXT-ALIGN: center\; LINE-HEIGHT: normal\; MARGIN: 0in 0in 0pt" class=MsoNormal align=center><B style="mso-bidi-font-weight: normal"><SPAN style="FONT-FAMILY: 'Times New Roman'\,'serif'\; FONT-SIZE: 10pt\; mso-fareast-font-family: 'Times New Roman'">15% OFF ON ALL OTC PRODUCTS<o:p></o:p></SPAN></B></P><P style="LINE-HEIGHT: normal\; MARGIN: 0in 0in 0pt" class=MsoNormal><B style="mso-bidi-font-weight: normal"><SPAN style="FONT-FAMILY: 'Times New Roman'\,'serif'\; FONT-SIZE: 10pt\; mso-fareast-font-family: 'Times New Roman'"><o:p>&nbsp\;</o:p></SPAN></B></P><P style="LINE-HEIGHT: normal\; MARGIN: 0in 0in 0pt" class=MsoNormal><B style="mso-bidi-font-weight: normal"><SPAN style="FONT-FAMILY: 'Times New Roman'\,'serif'\; FONT-SIZE: 10pt\; mso-fareast-font-family: 'Times New Roman'"><o:p>&nbsp\;</o:p></SPAN></B></P><P style="TEXT-ALIGN: center\; LINE-HEIGHT: normal\; MARGIN: 0in 0in 0pt" class=MsoNormal align=center><B style="mso-bidi-font-weight: normal"><SPAN style="FONT-FAMILY: 'Times New Roman'\,'serif'\; FONT-SIZE: 10pt\; mso-fareast-font-family: 'Times New Roman'">YOUR FRIENDLY NEIGHBORHOOD PHARMACY WITH FAST &amp\; EXCELLENT SERVICES!<o:p></o:p></SPAN></B></P><P style="LINE-HEIGHT: normal\; MARGIN: 0in 0in 0pt" class=MsoNormal><B style="mso-bidi-font-weight: normal"><SPAN style="FONT-FAMILY: 'Times New Roman'\,'serif'\; FONT-SIZE: 10pt">INCLUDING COMPOUNDING\, FREE DELIVERY\, LOW PRICES\, MATCH MOST COMPETITOR PRICES.</SPAN></B><SPAN style="FONT-FAMILY: 'Times New Roman'\,'serif'\; FONT-SIZE: 10pt\; mso-fareast-font-family: 'Times New Roman'"><o:p></o:p></SPAN></P><P style="TEXT-ALIGN: right\; LINE-HEIGHT: normal\; MARGIN: 0in 0in 0pt" class=MsoNormal align=left><B style="mso-bidi-font-weight: normal"><SPAN style="FONT-FAMILY: 'Times New Roman'\,'serif'\; FONT-SIZE: 10pt"></SPAN></B>&nbsp\;</P><P style="TEXT-ALIGN: right\; LINE-HEIGHT: normal\; MARGIN: 0in 0in 0pt" class=MsoNormal align=left><B style="mso-bidi-font-weight: normal"><SPAN style="FONT-FAMILY: 'Times New Roman'\,'serif'\; FONT-SIZE: 10pt">3334 BROADWAY BLVD #412<o:p></o:p></SPAN></B></P><P style="TEXT-ALIGN: right\; LINE-HEIGHT: normal\; MARGIN: 0in 0in 0pt" class=MsoNormal align=left><B style="mso-bidi-font-weight: normal"><SPAN style="FONT-FAMILY: 'Times New Roman'\,'serif'\; FONT-SIZE: 10pt">GARLAND\, TX 75043<o:p></o:p></SPAN></B></P><P style="TEXT-ALIGN: right\; LINE-HEIGHT: normal\; MARGIN: 0in 0in 0pt" class=MsoNormal align=left><B style="mso-bidi-font-weight: normal"><SPAN style="FONT-FAMILY: 'Times New Roman'\,'serif'\; FONT-SIZE: 10pt">Phone: (972) 278-9742<o:p></o:p></SPAN></B></P><P style="TEXT-ALIGN: right\; LINE-HEIGHT: normal\; MARGIN: 0in 0in 0pt" class=MsoNormal align=left><B style="mso-bidi-font-weight: normal"><SPAN style="FONT-FAMILY: 'Times New Roman'\,'serif'\; FONT-SIZE: 10pt">FAX: (972)278-9743<o:p></o:p></SPAN></B></P><P style="TEXT-ALIGN: right\; LINE-HEIGHT: normal\; MARGIN: 0in 0in 0pt" class=MsoNormal align=left><B style="mso-bidi-font-weight: normal"><SPAN style="FONT-FAMILY: 'Times New Roman'\,'serif'\; FONT-SIZE: 10pt"><o:p>&nbsp\;</o:p></SPAN></B></P><P style="TEXT-ALIGN: right\; LINE-HEIGHT: normal\; MARGIN: 0in 0in 0pt" class=MsoNormal align=left><B style="mso-bidi-font-weight: normal"><SPAN style="FONT-FAMILY: 'Times New Roman'\,'serif'\; FONT-SIZE: 10pt">BUSINESS HOURS<o:p></o:p></SPAN></B></P><P style="TEXT-ALIGN: right\; LINE-HEIGHT: normal\; MARGIN: 0in 0in 0pt" class=MsoNormal align=left><B style="mso-bidi-font-weight: normal"><SPAN style="FONT-FAMILY: 'Times New Roman'\,'serif'\; FONT-SIZE: 10pt">Mon-Fri:<SPAN style="mso-spacerun: yes">&nbsp\; </SPAN>9:30a – 6p<o:p></o:p></SPAN></B></P><P style="TEXT-ALIGN: right\; LINE-HEIGHT: normal\; MARGIN: 0in 0in 0pt" class=MsoNormal align=left><B style="mso-bidi-font-weight: normal"><SPAN style="FONT-FAMILY: 'Times New Roman'\,'serif'\; FONT-SIZE: 10pt">Sat:<SPAN style="mso-spacerun: yes">&nbsp\; </SPAN>11a – 2p<o:p></o:p></SPAN></B></P><P style="MARGIN: 0in 0in 10pt" class=MsoNormal><SPAN style="LINE-HEIGHT: 115%\; FONT-FAMILY: 'Times New Roman'\,'serif'\; FONT-SIZE: 10pt"><o:p>&nbsp\;</o:p></SPAN></P><P>&nbsp\;</P>
LOCATION:Broadway Pharmacy
UID:e.2096.1057
SEQUENCE:3
DTSTAMP:20260421T220806Z
URL:https://network.garlandchamber.com/events/details/ribbon-cutting-broadway-pharmacy-07-12-2012-1057
END:VEVENT

END:VCALENDAR
