BEGIN:VCALENDAR
VERSION:2.0
PRODID:-//ChamberMaster//Event Calendar 2.0//EN
METHOD:PUBLISH
X-PUBLISHED-TTL:P3D
REFRESH-INTERVAL:P3D
CALSCALE:GREGORIAN
BEGIN:VEVENT
DTSTART:20130214T154500Z
DTEND:20130214T164500Z
X-MICROSOFT-CDO-ALLDAYEVENT:FALSE
SUMMARY:Ribbon Cutting: Clothes Mentor
DESCRIPTION:We invite you to join the Garland Chamber of Commerce and its Board of Directors as we welcome one of our newest Chamber members with a ribbon cutting ceremony.
X-ALT-DESC;FMTTYPE=text/html:<DIV style="FONT-FAMILY: Arial">We invite you to join the Garland Chamber of Commerce and its Board of Directors as we welcome one of our newest Chamber members with a ribbon cutting ceremony.</DIV>
LOCATION:Clothes Mentor Garland
UID:e.2096.1118
SEQUENCE:3
DTSTAMP:20260421T131626Z
URL:https://network.garlandchamber.com/events/details/ribbon-cutting-clothes-mentor-02-14-2013-1118
END:VEVENT

END:VCALENDAR
