BEGIN:VCALENDAR
VERSION:2.0
PRODID:-//ChamberMaster//Event Calendar 2.0//EN
METHOD:PUBLISH
X-PUBLISHED-TTL:P3D
REFRESH-INTERVAL:P3D
CALSCALE:GREGORIAN
BEGIN:VEVENT
DTSTART:20121102T220000Z
DTEND:20121102T233000Z
X-MICROSOFT-CDO-ALLDAYEVENT:FALSE
SUMMARY:Ribbon Cutting: Custom Fit Search Group
DESCRIPTION:Custom Fit Search Group cordially invites you to attend the launch & welcom to the building party on Nov. 2\, 2012 from 5 to 6:30 p.m. 10945 Estate Lane\, Suite 212Dallas\, TX 75238 Refreshments will be served
X-ALT-DESC;FMTTYPE=text/html:<DIV style="FONT-FAMILY: Arial">Custom Fit Search Group cordially invites you to attend the launch &amp\; welcom to the building party on Nov. 2\, 2012 from 5 to 6:30 p.m.</DIV><DIV style="FONT-FAMILY: Arial">&nbsp\;</DIV><DIV style="FONT-FAMILY: Arial">10945 Estate Lane\, Suite 212</DIV><DIV style="FONT-FAMILY: Arial">Dallas\, TX 75238</DIV><DIV style="FONT-FAMILY: Arial">&nbsp\;</DIV><DIV style="FONT-FAMILY: Arial">Refreshments will be served</DIV>
LOCATION:Custom Fit Search Group
UID:e.2096.1106
SEQUENCE:3
DTSTAMP:20260421T175616Z
URL:https://network.garlandchamber.com/events/details/ribbon-cutting-custom-fit-search-group-11-02-2012-1106
END:VEVENT

END:VCALENDAR
