BEGIN:VCALENDAR
VERSION:2.0
PRODID:-//ChamberMaster//Event Calendar 2.0//EN
METHOD:PUBLISH
X-PUBLISHED-TTL:P3D
REFRESH-INTERVAL:P3D
CALSCALE:GREGORIAN
BEGIN:VEVENT
DTSTART:20121011T163000Z
DTEND:20121011T173000Z
X-MICROSOFT-CDO-ALLDAYEVENT:FALSE
SUMMARY:Ribbon Cutting: Cybernut Solutions LLC
DESCRIPTION:Join the Garland Chamber of Commerce as we welcome our new member\, Cybernut Solutions LLC\, with a Ribbon Cutting Ceremony. See Event Details See Event Schedule
X-ALT-DESC;FMTTYPE=text/html:<DIV style="FONT-FAMILY: Arial">Join the Garland Chamber of Commerce as we welcome our new member\, <A dataFld=0:0 href="http://www.cybernutsolutions.com/">Cybernut Solutions LLC</A>\, with a Ribbon Cutting Ceremony.</DIV><DIV style="FONT-FAMILY: Arial">&nbsp\;</DIV><DIV style="FONT-FAMILY: Arial"><A dataFld=0:0 href="http://www.cybernutsolutions.com/2012/10/ribbon-cutting-ceremony-set-for-grand-opening-of-garland-office/">See Event Details</A></DIV><DIV style="FONT-FAMILY: Arial">&nbsp\;</DIV><DIV style="FONT-FAMILY: Arial"><A dataFld=0:0 href="http://www.garlandchamber.com/images/stories/chamber/Member%20Promotions/General%20RC%20or%20Grand%20Opening%20Agenda.pdf">See Event Schedule</A></DIV>
LOCATION:Cybernut Solutions LLC
UID:e.2096.1087
SEQUENCE:3
DTSTAMP:20260421T175555Z
URL:https://network.garlandchamber.com/events/details/ribbon-cutting-cybernut-solutions-llc-10-11-2012-1087
END:VEVENT

END:VCALENDAR
