BEGIN:VCALENDAR
VERSION:2.0
PRODID:-//ChamberMaster//Event Calendar 2.0//EN
METHOD:PUBLISH
X-PUBLISHED-TTL:P3D
REFRESH-INTERVAL:P3D
CALSCALE:GREGORIAN
BEGIN:VEVENT
DTSTART:20091217T210000Z
DTEND:20091217T060000Z
X-MICROSOFT-CDO-ALLDAYEVENT:FALSE
SUMMARY:Ribbon Cutting: Edward Jones Investments (Glen Moore)
DESCRIPTION:
X-ALT-DESC;FMTTYPE=text/html:
LOCATION:Edward Jones (Glen Moore)
UID:e.2096.734
SEQUENCE:3
DTSTAMP:20260423T181642Z
URL:https://network.garlandchamber.com/events/details/ribbon-cutting-edward-jones-investments-glen-moore-12-17-2009-734
END:VEVENT

END:VCALENDAR
