BEGIN:VCALENDAR
VERSION:2.0
PRODID:-//ChamberMaster//Event Calendar 2.0//EN
METHOD:PUBLISH
X-PUBLISHED-TTL:P3D
REFRESH-INTERVAL:P3D
CALSCALE:GREGORIAN
BEGIN:VEVENT
DTSTART:20130518T160000Z
DTEND:20130518T170000Z
X-MICROSOFT-CDO-ALLDAYEVENT:FALSE
SUMMARY:Ribbon Cutting: Firewheel Swim and Rec Homeowners' Association
DESCRIPTION:The Garland Chamber of Commerce and its board of directors invite you to attend a Ribbon Cutting Ceremony in honor of the Firewheel Swim and Rec Homeowners' Association. The ceremony will take place in order to acknowledge the City partnership with the HOA and the Vitality Grant utilized to complete landscaping work around the pond and waterfalls off of Water Oak Road and Campbell Road. Mayor Ronald Jones will be in attendance to cut the ribbon\, joined by Rep. Angie Chen Button and various other local officials.  The Firewheel Swim and Rec Homeowners' Association consists of three Garland HOAs: The Hills HOA\, The Retreat HOW and the Fairways HOA\, collectively representing approximately 800 homes in the area.
X-ALT-DESC;FMTTYPE=text/html:<DIV style="FONT-FAMILY: Arial">The Garland Chamber of Commerce and its board of directors invite you to attend a Ribbon Cutting Ceremony in honor of the Firewheel Swim and Rec Homeowners' Association. The ceremony will take place in order to acknowledge the City partnership with the HOA and the Vitality Grant utilized to complete landscaping work around the pond and waterfalls off of Water Oak Road and Campbell Road.</DIV><DIV style="FONT-FAMILY: Arial">&nbsp\;</DIV><DIV style="FONT-FAMILY: Arial">Mayor Ronald Jones will be in attendance to cut the ribbon\, joined by Rep. Angie Chen Button and various other local officials. </DIV><DIV style="FONT-FAMILY: Arial">&nbsp\;</DIV><DIV style="FONT-FAMILY: Arial">The Firewheel Swim and Rec Homeowners' Association consists of three Garland HOAs: The Hills HOA\, The Retreat HOW and the Fairways HOA\, collectively representing approximately 800 homes in the area.</DIV>
LOCATION:Near the Pond/Waterfall Area
UID:e.2096.1185
SEQUENCE:3
DTSTAMP:20260421T074020Z
URL:https://network.garlandchamber.com/events/details/ribbon-cutting-firewheel-swim-and-rec-homeowners-association-05-18-2013-1185
END:VEVENT

END:VCALENDAR
