BEGIN:VCALENDAR
VERSION:2.0
PRODID:-//ChamberMaster//Event Calendar 2.0//EN
METHOD:PUBLISH
X-PUBLISHED-TTL:P3D
REFRESH-INTERVAL:P3D
CALSCALE:GREGORIAN
BEGIN:VEVENT
DTSTART:20120720T150000Z
DTEND:20120720T153000Z
X-MICROSOFT-CDO-ALLDAYEVENT:FALSE
SUMMARY:Ribbon Cutting: Golden Corral
DESCRIPTION:Join Golden Corral for a ribbon cutting ceremony in celebration of the grand opening of its newest restaurant in Garland\, Texas. Financial contributions will be accepted at the door to benefit Camp Corral\, a Summer Camp for children of wounded or disabled military families.
X-ALT-DESC;FMTTYPE=text/html:<DIV style="FONT-FAMILY: Arial">Join Golden Corral for a ribbon cutting ceremony in celebration of the grand opening of its newest restaurant in Garland\, Texas.</DIV><DIV style="FONT-FAMILY: Arial">&nbsp\;</DIV><DIV style="FONT-FAMILY: Arial">Financial contributions will be accepted at the door to benefit Camp Corral\, a Summer Camp for children of wounded or disabled military families.</DIV>
LOCATION:Golden Corral
UID:e.2096.1067
SEQUENCE:3
DTSTAMP:20260421T220838Z
URL:https://network.garlandchamber.com/events/details/ribbon-cutting-golden-corral-07-20-2012-1067
END:VEVENT

END:VCALENDAR
