BEGIN:VCALENDAR
VERSION:2.0
PRODID:-//ChamberMaster//Event Calendar 2.0//EN
METHOD:PUBLISH
X-PUBLISHED-TTL:P3D
REFRESH-INTERVAL:P3D
CALSCALE:GREGORIAN
BEGIN:VEVENT
DTSTART:20121017T160000Z
DTEND:20121017T170000Z
X-MICROSOFT-CDO-ALLDAYEVENT:FALSE
SUMMARY:Ribbon Cutting: HomeTowne at Garland
DESCRIPTION:Join the Garland Chamber of Commerce staff and Board of Directors as we welcome one of our newest members with a ribbon cutting ceremony.
X-ALT-DESC;FMTTYPE=text/html:<DIV style="FONT-FAMILY: Arial">Join the Garland Chamber of Commerce staff and Board of Directors as we welcome one of our newest members with a ribbon cutting ceremony.</DIV>
LOCATION:HomeTowne at Garland
UID:e.2096.1089
SEQUENCE:3
DTSTAMP:20260421T175826Z
URL:https://network.garlandchamber.com/events/details/ribbon-cutting-hometowne-at-garland-10-17-2012-1089
END:VEVENT

END:VCALENDAR
