BEGIN:VCALENDAR
VERSION:2.0
PRODID:-//ChamberMaster//Event Calendar 2.0//EN
METHOD:PUBLISH
X-PUBLISHED-TTL:P3D
REFRESH-INTERVAL:P3D
CALSCALE:GREGORIAN
BEGIN:VEVENT
DTSTART:20130320T163000Z
DTEND:20130320T173000Z
X-MICROSOFT-CDO-ALLDAYEVENT:FALSE
SUMMARY:Ribbon Cutting: Jerry's Express Car Wash
DESCRIPTION:The Garland Chamber of Commerce and its board of directors invite you to attend a ribbon cutting ceremony in honor of one of the Chamber's newest members\, Jerry's Express Car Wash.
X-ALT-DESC;FMTTYPE=text/html:<DIV style="FONT-FAMILY: Arial">The Garland Chamber of Commerce and its board of directors invite you to attend a ribbon cutting ceremony in honor of one of the Chamber's newest members\, Jerry's Express Car Wash.</DIV>
LOCATION:Jerry's Express Car Wash
UID:e.2096.1160
SEQUENCE:3
DTSTAMP:20260421T102838Z
URL:https://network.garlandchamber.com/events/details/ribbon-cutting-jerry-s-express-car-wash-03-20-2013-1160
END:VEVENT

END:VCALENDAR
