BEGIN:VCALENDAR
VERSION:2.0
PRODID:-//ChamberMaster//Event Calendar 2.0//EN
METHOD:PUBLISH
X-PUBLISHED-TTL:P3D
REFRESH-INTERVAL:P3D
CALSCALE:GREGORIAN
BEGIN:VEVENT
DTSTART:20091215T153000Z
DTEND:20091215T060000Z
X-MICROSOFT-CDO-ALLDAYEVENT:FALSE
SUMMARY:Ribbon Cutting: Life Abilities\, Inc.
DESCRIPTION:
X-ALT-DESC;FMTTYPE=text/html:
LOCATION:Life Abilities\, Inc.
UID:e.2096.733
SEQUENCE:3
DTSTAMP:20260423T180518Z
URL:https://network.garlandchamber.com/events/details/ribbon-cutting-life-abilities-inc-12-15-2009-733
END:VEVENT

END:VCALENDAR
