BEGIN:VCALENDAR
VERSION:2.0
PRODID:-//ChamberMaster//Event Calendar 2.0//EN
METHOD:PUBLISH
X-PUBLISHED-TTL:P3D
REFRESH-INTERVAL:P3D
CALSCALE:GREGORIAN
BEGIN:VEVENT
DTSTART:20121208T010000Z
DTEND:20121208T020000Z
X-MICROSOFT-CDO-ALLDAYEVENT:FALSE
SUMMARY:Ribbon Cutting: Massey Cadillac
DESCRIPTION:Please join us in welcoming one of our newest members with a ribbon cutting ceremony.
X-ALT-DESC;FMTTYPE=text/html:<DIV style="FONT-FAMILY: Arial">Please join us in welcoming one of our newest members with a ribbon cutting ceremony.</DIV>
LOCATION:Massey Cadillac
UID:e.2096.1108
SEQUENCE:3
DTSTAMP:20260421T150307Z
URL:https://network.garlandchamber.com/events/details/ribbon-cutting-massey-cadillac-12-07-2012-1108
END:VEVENT

END:VCALENDAR
