BEGIN:VCALENDAR
VERSION:2.0
PRODID:-//ChamberMaster//Event Calendar 2.0//EN
METHOD:PUBLISH
X-PUBLISHED-TTL:P3D
REFRESH-INTERVAL:P3D
CALSCALE:GREGORIAN
BEGIN:VEVENT
DTSTART:20120608T170000Z
DTEND:20120610T040000Z
X-MICROSOFT-CDO-ALLDAYEVENT:FALSE
SUMMARY:Ribbon Cutting: McDonald's
DESCRIPTION:Join the Garland Chamber of Commerce at the Ribbon Cutting and Grand Opening of McDonald's at 1110 W. Centerville in Garland\, Texas. McDonald's will be offering several limited time only specials in honor of the occassion.  The Ribbon Cutting will be held on June 8\, 2012 at 9:30 a.m. See the flyer for additional details and food specials
X-ALT-DESC;FMTTYPE=text/html:<DIV style="FONT-FAMILY: Arial">Join the Garland Chamber of Commerce at the Ribbon Cutting and Grand Opening of McDonald's at 1110 W. Centerville in Garland\, Texas.</DIV><DIV style="FONT-FAMILY: Arial">&nbsp\;</DIV><DIV style="FONT-FAMILY: Arial">McDonald's will be offering several limited time only specials in honor of the occassion. </DIV><DIV style="FONT-FAMILY: Arial">&nbsp\;</DIV><DIV style="FONT-FAMILY: Arial">The Ribbon Cutting will be held on June 8\, 2012 at 9:30 a.m.</DIV><DIV style="FONT-FAMILY: Arial">&nbsp\;</DIV><DIV style="FONT-FAMILY: Arial"><A dataFld=0:0 href="http://www.garlandchamber.com/images/stories/chamber/McD%20Centerville%20Grand%20Opening%20Flyer.pdf">See the flyer for additional details and food specials</A></DIV>
LOCATION:McDonald's Corp
UID:e.2096.1052
SEQUENCE:3
DTSTAMP:20260421T233456Z
URL:https://network.garlandchamber.com/events/details/ribbon-cutting-mcdonald-s-06-08-2012-1052
END:VEVENT

END:VCALENDAR
