BEGIN:VCALENDAR
VERSION:2.0
PRODID:-//ChamberMaster//Event Calendar 2.0//EN
METHOD:PUBLISH
X-PUBLISHED-TTL:P3D
REFRESH-INTERVAL:P3D
CALSCALE:GREGORIAN
BEGIN:VEVENT
DTSTART:20121207T153000Z
DTEND:20121207T163000Z
X-MICROSOFT-CDO-ALLDAYEVENT:FALSE
SUMMARY:Ribbon Cutting: McDonald's
DESCRIPTION:Join us in welcoming one of our newest members with a ribbon cutting ceremony.
X-ALT-DESC;FMTTYPE=text/html:<DIV style="FONT-FAMILY: Arial">Join us in welcoming one of our newest members with a ribbon cutting ceremony.</DIV>
LOCATION:McDonald's at I30
UID:e.2096.1107
SEQUENCE:3
DTSTAMP:20260421T150035Z
URL:https://network.garlandchamber.com/events/details/ribbon-cutting-mcdonald-s-12-07-2012-1107
END:VEVENT

END:VCALENDAR
