BEGIN:VCALENDAR
VERSION:2.0
PRODID:-//ChamberMaster//Event Calendar 2.0//EN
METHOD:PUBLISH
X-PUBLISHED-TTL:P3D
REFRESH-INTERVAL:P3D
CALSCALE:GREGORIAN
BEGIN:VEVENT
DTSTART:20130219T160000Z
DTEND:20130219T170000Z
X-MICROSOFT-CDO-ALLDAYEVENT:FALSE
SUMMARY:Ribbon Cutting: MyChildren's at Garland
DESCRIPTION:You are invited to attend a ribbon-cutting to celebrate the new MyChildren's office at Garland Tuesday\, Feb. 19\, 201310:00 a.m. MyChildren's at GarlandGarland Town Center455 N. Garland AvenueGarland\, TX 75040 Mayor of Garland\, Ronald Jones\, will speakRefreshments will be served Please RSVP by Friday\, Feb. 15\, 2013Bonnie Sorrells\, (214) 456-5319\, or bonnie.sorrells@childrens.com MyChildren's provides primary-care services to children. The Garland office is the newest addition to the network of North Texas pediatric practices affiliated with Children's Medical Center
X-ALT-DESC;FMTTYPE=text/html:<DIV style="FONT-FAMILY: Arial">You are invited to attend a ribbon-cutting to celebrate the new MyChildren's office at Garland</DIV><DIV style="FONT-FAMILY: Arial">&nbsp\;</DIV><DIV style="FONT-FAMILY: Arial">Tuesday\, Feb. 19\, 2013</DIV><DIV style="FONT-FAMILY: Arial">10:00 a.m.</DIV><DIV style="FONT-FAMILY: Arial">&nbsp\;</DIV><DIV style="FONT-FAMILY: Arial">MyChildren's at Garland</DIV><DIV style="FONT-FAMILY: Arial">Garland Town Center</DIV><DIV style="FONT-FAMILY: Arial"><A href="https://maps.google.com/maps?hl=en&amp\;q=455+N.+Garland+Ave.&amp\;ie=UTF8&amp\;hq=&amp\;hnear=455+N+Garland+Ave\,+Garland\,+Texas+75040&amp\;t=m&amp\;z=16&amp\;vpsrc=0">455 N. Garland Avenue</A></DIV><DIV style="FONT-FAMILY: Arial"><A href="https://maps.google.com/maps?hl=en&amp\;q=455+N.+Garland+Ave.&amp\;ie=UTF8&amp\;hq=&amp\;hnear=455+N+Garland+Ave\,+Garland\,+Texas+75040&amp\;t=m&amp\;z=16&amp\;vpsrc=0">Garland\, TX 75040</A></DIV><DIV style="FONT-FAMILY: Arial">&nbsp\;</DIV><DIV style="FONT-FAMILY: Arial">Mayor of Garland\, Ronald Jones\, will speak</DIV><DIV style="FONT-FAMILY: Arial">Refreshments will be served</DIV><DIV style="FONT-FAMILY: Arial">&nbsp\;</DIV><DIV style="FONT-FAMILY: Arial">Please RSVP by Friday\, Feb. 15\, 2013</DIV><DIV style="FONT-FAMILY: Arial">Bonnie Sorrells\, (214) 456-5319\, or <A href="mailto:bonnie.sorrells@childrens.com">bonnie.sorrells@childrens.com</A></DIV><DIV style="FONT-FAMILY: Arial">&nbsp\;</DIV><DIV style="FONT-FAMILY: Arial">MyChildren's provides primary-care services to children. The Garland office is the newest addition to the network of North Texas pediatric practices affiliated with Children's Medical Center</DIV>
LOCATION:My Children's Garland
UID:e.2096.1156
SEQUENCE:3
DTSTAMP:20260421T115421Z
URL:https://network.garlandchamber.com/events/details/ribbon-cutting-mychildren-s-at-garland-02-19-2013-1156
END:VEVENT

END:VCALENDAR
