BEGIN:VCALENDAR
VERSION:2.0
PRODID:-//ChamberMaster//Event Calendar 2.0//EN
METHOD:PUBLISH
X-PUBLISHED-TTL:P3D
REFRESH-INTERVAL:P3D
CALSCALE:GREGORIAN
BEGIN:VEVENT
DTSTART:20100127T230000Z
DTEND:20100128T010000Z
X-MICROSOFT-CDO-ALLDAYEVENT:FALSE
SUMMARY:Ribbon Cutting & Open House: Texas Oncology
DESCRIPTION:Please join us for an open house!Stop by and tour our new facility and visit with the physicians and staff. Texas Oncology-GarlandBaylor Medical Plaza IV530 Clara Barton Blvd.\, Suite 250Garland\, TX 75042 January 27\, 20105 p.m. – 7 p.m.  Manish Gupta\, M.D.       Gavin Melmed\, M.D.       Jairo Olivares\, M.D.       Sashi Reddy\, M.D.       Charles S. White\, III\, M.D.
X-ALT-DESC;FMTTYPE=text/html:<DIV><P class=MsoNormal style="MARGIN: 0in 0in 0pt\; TEXT-ALIGN: center" align=center><B><SPAN style="FONT-SIZE: 14pt\; COLOR: #996600\; FONT-FAMILY: 'HelveticaNeue-BoldCond'\,'serif'">Please join us for an open house!<?xml:namespace prefix = o ns = "urn:schemas-microsoft-com:office:office" /><o:p></o:p></SPAN></B></P><P class=MsoNormal style="MARGIN: 0in 0in 0pt\; TEXT-ALIGN: center" align=center><SPAN style="FONT-SIZE: 14pt\; COLOR: #996600\; FONT-FAMILY: HelveticaNeue-MediumCond"><FONT face="Times New Roman">Stop by and tour our new facility and visit with the physicians and staff.<o:p></o:p></FONT></SPAN></P><P class=MsoNormal style="MARGIN: 0in 0in 0pt\; TEXT-ALIGN: center" align=center><SPAN style="FONT-SIZE: 14pt\; COLOR: #996633\; FONT-FAMILY: HelveticaNeue-MediumCond"><o:p><FONT face="Times New Roman">&nbsp\;</FONT></o:p></SPAN></P><P class=MsoNormal style="MARGIN: 0in 0in 0pt\; TEXT-ALIGN: center" align=center><SPAN style="FONT-SIZE: 14pt\; COLOR: #3366cc\; FONT-FAMILY: HelveticaNeue-MediumCond"><FONT face="Times New Roman">Texas Oncology-Garland<o:p></o:p></FONT></SPAN></P><P class=MsoNormal style="MARGIN: 0in 0in 0pt\; TEXT-ALIGN: center" align=center><SPAN style="FONT-SIZE: 14pt\; COLOR: #3366cc\; FONT-FAMILY: HelveticaNeue-MediumCond"><FONT face="Times New Roman">Baylor Medical Plaza IV<o:p></o:p></FONT></SPAN></P><P class=MsoNormal style="MARGIN: 0in 0in 0pt\; TEXT-ALIGN: center" align=center><SPAN style="FONT-SIZE: 14pt\; COLOR: #3366cc\; FONT-FAMILY: HelveticaNeue-MediumCond"><FONT face="Times New Roman">530 Clara Barton Blvd.\, Suite 250<o:p></o:p></FONT></SPAN></P><P class=MsoNormal style="MARGIN: 0in 0in 0pt\; TEXT-ALIGN: center" align=center><SPAN style="FONT-SIZE: 14pt\; COLOR: #3366cc\; FONT-FAMILY: HelveticaNeue-MediumCond"><FONT face="Times New Roman">Garland\, TX 75042<o:p></o:p></FONT></SPAN></P><P class=MsoNormal style="MARGIN: 0in 0in 0pt\; TEXT-ALIGN: center" align=center><SPAN style="FONT-SIZE: 14pt\; COLOR: #3366cc\; FONT-FAMILY: HelveticaNeue-MediumCond"><o:p><FONT face="Times New Roman">&nbsp\;</FONT></o:p></SPAN></P><P class=MsoNormal style="MARGIN: 0in 0in 0pt\; TEXT-ALIGN: center" align=center><SPAN style="FONT-SIZE: 14pt\; COLOR: #3366cc\; FONT-FAMILY: HelveticaNeue-MediumCond"><FONT face="Times New Roman">January 27\, 2010<o:p></o:p></FONT></SPAN></P><P class=MsoNormal style="MARGIN: 0in 0in 0pt\; TEXT-ALIGN: center" align=center><SPAN style="FONT-SIZE: 14pt\; COLOR: #3366cc\; FONT-FAMILY: HelveticaNeue-MediumCond"><FONT face="Times New Roman">5 p.m. – 7 p.m.</FONT></SPAN></P><P class=MsoNormal style="MARGIN: 0in 0in 0pt\; TEXT-ALIGN: center" align=center><SPAN style="FONT-SIZE: 14pt\; COLOR: #3366cc\; FONT-FAMILY: HelveticaNeue-MediumCond"></SPAN><SPAN style="FONT-SIZE: 14pt\; COLOR: #3366cc\; FONT-FAMILY: HelveticaNeue-MediumCond"><o:p><FONT face="Times New Roman">&nbsp\;</FONT></o:p></SPAN></P><P class=MsoNormal style="MARGIN: 0in 0in 0pt\; TEXT-ALIGN: center" align=center><SPAN style="FONT-SIZE: 14pt\; COLOR: #3366cc\; FONT-FAMILY: HelveticaNeue-MediumCond"><o:p></o:p></SPAN><SPAN style="FONT-SIZE: 14pt\; COLOR: #311b00\; FONT-FAMILY: Myriad-Roman"><o:p><FONT face="Times New Roman">&nbsp\;</FONT></o:p></SPAN></P><P class=MsoNormal style="MARGIN: 0in 0in 0pt\; TEXT-ALIGN: center" align=center><SPAN style="FONT-SIZE: 14pt\; COLOR: #3366cc\; FONT-FAMILY: HelveticaNeue-MediumCond"><FONT face="Times New Roman">Manish Gupta\, M.D. &nbsp\;&nbsp\;&nbsp\;&nbsp\;&nbsp\;&nbsp\;Gavin Melmed\, M.D.&nbsp\;&nbsp\; &nbsp\;&nbsp\;&nbsp\;&nbsp\;Jairo Olivares\, M.D.&nbsp\; &nbsp\;&nbsp\;&nbsp\;&nbsp\;&nbsp\;Sashi Reddy\, M.D. &nbsp\;&nbsp\;&nbsp\;&nbsp\;&nbsp\;&nbsp\;Charles S. White\, III\, M.D.</FONT></SPAN><SPAN style="FONT-SIZE: 14pt\; COLOR: #3366cc\; FONT-FAMILY: 'Arial'\,'sans-serif'"><o:p></o:p></SPAN></P></DIV>
LOCATION:
UID:e.2096.744
SEQUENCE:3
DTSTAMP:20260423T163828Z
URL:https://network.garlandchamber.com/events/details/ribbon-cutting-open-house-texas-oncology-01-27-2010-744
END:VEVENT

END:VCALENDAR
