BEGIN:VCALENDAR
VERSION:2.0
PRODID:-//ChamberMaster//Event Calendar 2.0//EN
METHOD:PUBLISH
X-PUBLISHED-TTL:P3D
REFRESH-INTERVAL:P3D
CALSCALE:GREGORIAN
BEGIN:VEVENT
DTSTART:20091216T173000Z
DTEND:20091216T060000Z
X-MICROSOFT-CDO-ALLDAYEVENT:FALSE
SUMMARY:Ribbon Cutting & Open House: Water Provisions To Go
DESCRIPTION:
X-ALT-DESC;FMTTYPE=text/html:
LOCATION:Water Provisions To-Go
UID:e.2096.726
SEQUENCE:3
DTSTAMP:20260423T181609Z
URL:https://network.garlandchamber.com/events/details/ribbon-cutting-open-house-water-provisions-to-go-12-16-2009-726
END:VEVENT

END:VCALENDAR
