BEGIN:VCALENDAR
VERSION:2.0
PRODID:-//ChamberMaster//Event Calendar 2.0//EN
METHOD:PUBLISH
X-PUBLISHED-TTL:P3D
REFRESH-INTERVAL:P3D
CALSCALE:GREGORIAN
BEGIN:VEVENT
DTSTART:20130206T180000Z
DTEND:20130206T190000Z
X-MICROSOFT-CDO-ALLDAYEVENT:FALSE
SUMMARY:Ribbon Cutting: Weidner Electric
DESCRIPTION:We invite  you to join the Garland Chamber of Commerce and its Board of Directors as we welcome one of our newest Chamber members with a ribbon cutting ceremony.
X-ALT-DESC;FMTTYPE=text/html:<DIV style="FONT-FAMILY: Arial">We invite&nbsp\; you to join the Garland Chamber of Commerce and its Board of Directors as we welcome one of our newest Chamber members with a ribbon cutting ceremony.</DIV>
LOCATION:Weidner Electric\, LLC
UID:e.2096.1139
SEQUENCE:3
DTSTAMP:20260421T115131Z
URL:https://network.garlandchamber.com/events/details/ribbon-cutting-weidner-electric-02-06-2013-1139
END:VEVENT

END:VCALENDAR
