BEGIN:VCALENDAR
VERSION:2.0
PRODID:-//ChamberMaster//Event Calendar 2.0//EN
METHOD:PUBLISH
X-PUBLISHED-TTL:P3D
REFRESH-INTERVAL:P3D
CALSCALE:GREGORIAN
BEGIN:VEVENT
DTSTART:20121016T143000Z
DTEND:20121016T153000Z
X-MICROSOFT-CDO-ALLDAYEVENT:FALSE
SUMMARY:Ribbon Cutting: Wendy's
DESCRIPTION:Join the Garland Chamber of Commerce staff and Board of Directors as we welcome one of our newest members with a ribbon cutting ceremony to celebrate the location's grand re-opening!
X-ALT-DESC;FMTTYPE=text/html:<DIV style="FONT-FAMILY: Arial">Join the Garland Chamber of Commerce staff and Board of Directors as we welcome one of our newest members with a ribbon cutting ceremony to celebrate the location's grand re-opening!</DIV>
LOCATION:Wendy's
UID:e.2096.1090
SEQUENCE:3
DTSTAMP:20260421T192240Z
URL:https://network.garlandchamber.com/events/details/ribbon-cutting-wendy-s-10-16-2012-1090
END:VEVENT

END:VCALENDAR
