BEGIN:VCALENDAR
VERSION:2.0
PRODID:-//ChamberMaster//Event Calendar 2.0//EN
METHOD:PUBLISH
X-PUBLISHED-TTL:P3D
REFRESH-INTERVAL:P3D
CALSCALE:GREGORIAN
BEGIN:VEVENT
DTSTART:20090630T223000Z
DTEND:20090701T023000Z
X-MICROSOFT-CDO-ALLDAYEVENT:FALSE
SUMMARY:Richland College Garland Campus Community Open House
DESCRIPTION:
X-ALT-DESC;FMTTYPE=text/html:
LOCATION:675 W. Walnut
UID:e.2096.679
SEQUENCE:3
DTSTAMP:20260424T023356Z
URL:https://network.garlandchamber.com/events/details/richland-college-garland-campus-community-open-house-06-30-2009-679
END:VEVENT

END:VCALENDAR
