BEGIN:VCALENDAR
VERSION:2.0
PRODID:-//ChamberMaster//Event Calendar 2.0//EN
METHOD:PUBLISH
X-PUBLISHED-TTL:P3D
REFRESH-INTERVAL:P3D
CALSCALE:GREGORIAN
BEGIN:VEVENT
DTSTART:20070426T200000Z
DTEND:20070427T003000Z
X-MICROSOFT-CDO-ALLDAYEVENT:FALSE
SUMMARY:RoseMary Rumbly Red Hat Tea & Style Show
DESCRIPTION:Montclair Redhatter's will host their 2nd annual Red Hat Tea & Stein-Mart Style Show.  Our guest Entertainment will be the one and only Ms RoseMary Rumbley.  Very nice prizes for Best Table\, Best Dressed and Best Hat!  Just ask the girls last year if the prizes were worth showing up for!  Great food\, great atmosphere with friends and great entertainment.  Call and ask for Cynthia
X-ALT-DESC;FMTTYPE=text/html:Montclair Redhatter's will host their 2nd annual Red Hat Tea & Stein-Mart Style Show.  Our guest Entertainment will be the one and only Ms RoseMary Rumbley.  Very nice prizes for Best Table\, Best Dressed and Best Hat!  Just ask the girls last year if the prizes were worth showing up for!  Great food\, great atmosphere with friends and great entertainment.  Call and ask for Cynthia
LOCATION:Montclair Estates\, An Independent Senior Retirement Communit
UID:e.2096.37
SEQUENCE:3
DTSTAMP:20260425T151523Z
URL:https://network.garlandchamber.com/events/details/rosemary-rumbly-red-hat-tea-style-show-04-26-2007-37
END:VEVENT

END:VCALENDAR
