BEGIN:VCALENDAR
VERSION:2.0
PRODID:-//ChamberMaster//Event Calendar 2.0//EN
METHOD:PUBLISH
X-PUBLISHED-TTL:P3D
REFRESH-INTERVAL:P3D
CALSCALE:GREGORIAN
BEGIN:VEVENT
DTSTART:20130406T120000Z
DTEND:20130406T160000Z
X-MICROSOFT-CDO-ALLDAYEVENT:FALSE
SUMMARY:Running 4 Clean Water 5K and Fun Run
DESCRIPTION:Join Lifewell Church\, and the First and New World United Methodist Churches for "Running 4 Clean Water" a 5K and 1 mile fun run benefitting the Seven Hills Global Outreach in partnership with Zion Ministries\, Sierra Leone\, Africa. Additional information\, registration and sponsorship opportunities available in the event brochure or at www.facebook.com/Running4CleanWater.
X-ALT-DESC;FMTTYPE=text/html:<DIV style="FONT-FAMILY: Arial">Join Lifewell Church\, and the First and New World United Methodist Churches for "Running 4 Clean Water" a 5K and 1 mile fun run benefitting the Seven Hills Global Outreach in partnership with Zion Ministries\, Sierra Leone\, Africa.</DIV><DIV style="FONT-FAMILY: Arial">&nbsp\;</DIV><DIV style="FONT-FAMILY: Arial">Additional information\, registration and sponsorship opportunities available in the <A dataFld=0:0 href="http://www.garlandchamber.com/images/stories/chamber/Member%20Promotions/FUMC%20Running%20for%20Clean%20Water.pdf">event brochure</A> or at <A href="http://www.facebook.com/Running4CleanWater">www.facebook.com/Running4CleanWater</A>. </DIV>
LOCATION:New World United Methodist Church
UID:e.2096.1168
SEQUENCE:3
DTSTAMP:20260421T102649Z
URL:https://network.garlandchamber.com/events/details/running-4-clean-water-5k-and-fun-run-04-06-2013-1168
END:VEVENT

END:VCALENDAR
