BEGIN:VCALENDAR
VERSION:2.0
PRODID:-//ChamberMaster//Event Calendar 2.0//EN
METHOD:PUBLISH
X-PUBLISHED-TTL:P3D
REFRESH-INTERVAL:P3D
CALSCALE:GREGORIAN
BEGIN:VEVENT
DTSTART:20080503T150000Z
DTEND:20080503T200000Z
X-MICROSOFT-CDO-ALLDAYEVENT:FALSE
SUMMARY:SafetyFest 2008: Fire & Injury Prevention Festival
DESCRIPTION:
X-ALT-DESC;FMTTYPE=text/html:
LOCATION:Garland Fire Department
UID:e.2096.527
SEQUENCE:3
DTSTAMP:20260424T200928Z
URL:https://network.garlandchamber.com/events/details/safetyfest-2008-fire-injury-prevention-festival-05-03-2008-527
END:VEVENT

END:VCALENDAR
