BEGIN:VCALENDAR
VERSION:2.0
PRODID:-//ChamberMaster//Event Calendar 2.0//EN
METHOD:PUBLISH
X-PUBLISHED-TTL:P3D
REFRESH-INTERVAL:P3D
CALSCALE:GREGORIAN
BEGIN:VEVENT
DTSTART:20090621T000000Z
DTEND:20090620T050000Z
X-MICROSOFT-CDO-ALLDAYEVENT:FALSE
SUMMARY:Saigon Mall Anniversary Celebration
DESCRIPTION:
X-ALT-DESC;FMTTYPE=text/html:
LOCATION:Saigon Mall
UID:e.2096.673
SEQUENCE:3
DTSTAMP:20260424T023159Z
URL:https://network.garlandchamber.com/events/details/saigon-mall-anniversary-celebration-06-20-2009-673
END:VEVENT

END:VCALENDAR
