BEGIN:VCALENDAR
VERSION:2.0
PRODID:-//ChamberMaster//Event Calendar 2.0//EN
METHOD:PUBLISH
X-PUBLISHED-TTL:P3D
REFRESH-INTERVAL:P3D
CALSCALE:GREGORIAN
BEGIN:VEVENT
DTSTART:20080611T140000Z
DTEND:20080611T160000Z
X-MICROSOFT-CDO-ALLDAYEVENT:FALSE
SUMMARY:Saigon Mall Grand Opening
DESCRIPTION:
X-ALT-DESC;FMTTYPE=text/html:
LOCATION:Saigon Mall
UID:e.2096.547
SEQUENCE:3
DTSTAMP:20260424T183653Z
URL:https://network.garlandchamber.com/events/details/saigon-mall-grand-opening-06-11-2008-547
END:VEVENT

END:VCALENDAR
