BEGIN:VCALENDAR
VERSION:2.0
PRODID:-//ChamberMaster//Event Calendar 2.0//EN
METHOD:PUBLISH
X-PUBLISHED-TTL:P3D
REFRESH-INTERVAL:P3D
CALSCALE:GREGORIAN
BEGIN:VEVENT
DTSTART:20120907T000000Z
DTEND:20120907T020000Z
X-MICROSOFT-CDO-ALLDAYEVENT:FALSE
SUMMARY:Salvation Army Doing the Most Good Dinner
DESCRIPTION:The Salvation Army of Garland invites you to share an evening with Scott O'Grady\, USAF Captain and former fighter pilot at the Annual Doing the Most Good Dinner on Thursday\, Sept. 6 at 7 p.m. at the Atrium at the Granville Arts Center. See the Event Website for Additional Information
X-ALT-DESC;FMTTYPE=text/html:<DIV style="FONT-FAMILY: Arial">The Salvation Army of Garland invites you to share an evening with Scott O'Grady\, USAF Captain and former fighter pilot at the Annual Doing the Most Good Dinner on Thursday\, Sept. 6 at 7 p.m. at the Atrium at the Granville Arts Center.</DIV><DIV style="FONT-FAMILY: Arial">&nbsp\;</DIV><DIV style="FONT-FAMILY: Arial"><A dataFld=0:0 href="http://www.uss.salvationarmy.org/uss/www_uss_dallasac.nsf/vw-text-dynamic-arrays/80F75FC0EB94FF6385257A390065C5BA?openDocument&amp\;charset=utf-8">See the Event Website for Additional Information</A></DIV>
LOCATION:Garland Cultural Arts Commission\, Inc.
UID:e.2096.1074
SEQUENCE:3
DTSTAMP:20260421T192322Z
URL:https://network.garlandchamber.com/events/details/salvation-army-doing-the-most-good-dinner-09-06-2012-1074
END:VEVENT

END:VCALENDAR
