BEGIN:VCALENDAR
VERSION:2.0
PRODID:-//ChamberMaster//Event Calendar 2.0//EN
METHOD:PUBLISH
X-PUBLISHED-TTL:P3D
REFRESH-INTERVAL:P3D
CALSCALE:GREGORIAN
BEGIN:VEVENT
DTSTART:20130309T170000Z
DTEND:20130309T210000Z
X-MICROSOFT-CDO-ALLDAYEVENT:FALSE
SUMMARY:Sam's Club Open House
DESCRIPTION:
X-ALT-DESC;FMTTYPE=text/html:
LOCATION:Sam's Club 8242
UID:e.2096.1165
SEQUENCE:3
DTSTAMP:20260421T114945Z
URL:https://network.garlandchamber.com/events/details/sam-s-club-open-house-03-09-2013-1165
END:VEVENT

END:VCALENDAR
