BEGIN:VCALENDAR
VERSION:2.0
PRODID:-//ChamberMaster//Event Calendar 2.0//EN
METHOD:PUBLISH
X-PUBLISHED-TTL:P3D
REFRESH-INTERVAL:P3D
CALSCALE:GREGORIAN
BEGIN:VEVENT
DTSTART:20100405T050000Z
DTEND:20100412T050000Z
X-MICROSOFT-CDO-ALLDAYEVENT:FALSE
SUMMARY:Sam's Club Stock Up Event
DESCRIPTION:
X-ALT-DESC;FMTTYPE=text/html:
LOCATION:Sam's Club #8242
UID:e.2096.768
SEQUENCE:3
DTSTAMP:20260423T121221Z
URL:https://network.garlandchamber.com/events/details/sam-s-club-stock-up-event-04-05-2010-768
END:VEVENT

END:VCALENDAR
