BEGIN:VCALENDAR
VERSION:2.0
PRODID:-//ChamberMaster//Event Calendar 2.0//EN
METHOD:PUBLISH
X-PUBLISHED-TTL:P3D
REFRESH-INTERVAL:P3D
CALSCALE:GREGORIAN
BEGIN:VEVENT
DTSTART:20081201T060000Z
DTEND:20081231T060000Z
X-MICROSOFT-CDO-ALLDAYEVENT:FALSE
SUMMARY:Santa's Elves Store Here Event
DESCRIPTION:Free Gift Wrapping StationWith 1 month rental and donation to NTFB****Special expires Dec. 25th\, 2008
X-ALT-DESC;FMTTYPE=text/html:<P align=center><FONT color=#008000>Free Gift Wrapping Station</FONT></P><P align=center><FONT color=#008000>With 1 month rental and donation to NTFB</FONT></P><P align=center><FONT color=#ff0000>****Special expires Dec. 25th\, 2008</FONT></P>
LOCATION:My Storage Space
UID:e.2096.526
SEQUENCE:3
DTSTAMP:20260424T105135Z
URL:https://network.garlandchamber.com/events/details/santa-s-elves-store-here-event-12-01-2008-526
END:VEVENT

END:VCALENDAR
