BEGIN:VCALENDAR
VERSION:2.0
PRODID:-//ChamberMaster//Event Calendar 2.0//EN
METHOD:PUBLISH
X-PUBLISHED-TTL:P3D
REFRESH-INTERVAL:P3D
CALSCALE:GREGORIAN
BEGIN:VEVENT
DTSTART:20121201T160000Z
DTEND:20121201T190000Z
X-MICROSOFT-CDO-ALLDAYEVENT:FALSE
SUMMARY:Santa Visits Frost Bank for Photos & Good Cheer
DESCRIPTION:Santa Takes time out of his busy schedule to touch down at various Frost locations throughout Dallas to spread good cheer and capture the holiday spirit. Guests can enjoy holiday cookies and a warm cup of joe next to the Christmas tree while they await their chance to cozy up to the big guy in red. Photos will be taken in the living-room-like setting known as the Frost Room. Set among the twinkling lights\, Santa will start his gift-giving early this season when he grants children candy canes and complimentary gramed photos to commemorate the occasion. See Additional Details
X-ALT-DESC;FMTTYPE=text/html:<DIV style="FONT-FAMILY: Arial">Santa Takes time out of his busy schedule to touch down at various Frost locations throughout Dallas to spread good cheer and capture the holiday spirit. Guests can enjoy holiday cookies and a warm cup of joe next to the Christmas tree while they await their chance to cozy up to the big guy in red. Photos will be taken in the living-room-like setting known as the Frost Room. Set among the twinkling lights\, Santa will start his gift-giving early this season when he grants children candy canes and complimentary gramed photos to commemorate the occasion.</DIV><DIV style="FONT-FAMILY: Arial">&nbsp\;</DIV><DIV style="FONT-FAMILY: Arial"><A dataFld=0:0 href="http://www.garlandchamber.com/images/stories/chamber/Member%20Promotions/Frost%20Photos%20and%20Good%20Cheer.pdf">See Additional Details</A></DIV>
LOCATION:Frost Bank
UID:e.2096.1110
SEQUENCE:3
DTSTAMP:20260421T150547Z
URL:https://network.garlandchamber.com/events/details/santa-visits-frost-bank-for-photos-good-cheer-12-01-2012-1110
END:VEVENT

END:VCALENDAR
