BEGIN:VCALENDAR
VERSION:2.0
PRODID:-//ChamberMaster//Event Calendar 2.0//EN
METHOD:PUBLISH
X-PUBLISHED-TTL:P3D
REFRESH-INTERVAL:P3D
CALSCALE:GREGORIAN
BEGIN:VEVENT
DTSTART:20090722T000000Z
DTEND:20090722T020000Z
X-MICROSOFT-CDO-ALLDAYEVENT:FALSE
SUMMARY:Scooters Open House/ Meet & Greet
DESCRIPTION:
X-ALT-DESC;FMTTYPE=text/html:
LOCATION:Scooters
UID:e.2096.683
SEQUENCE:3
DTSTAMP:20260424T023210Z
URL:https://network.garlandchamber.com/events/details/scooters-open-house-meet-greet-07-21-2009-683
END:VEVENT

END:VCALENDAR
