BEGIN:VCALENDAR
VERSION:2.0
PRODID:-//ChamberMaster//Event Calendar 2.0//EN
METHOD:PUBLISH
X-PUBLISHED-TTL:P3D
REFRESH-INTERVAL:P3D
CALSCALE:GREGORIAN
BEGIN:VEVENT
DTSTART:20130221T203000Z
DTEND:20130221T220000Z
X-MICROSOFT-CDO-ALLDAYEVENT:FALSE
SUMMARY:Seminar: China Sales - Best Practices
DESCRIPTION:Register at www.eventbrite.com/event/5218988134
X-ALT-DESC;FMTTYPE=text/html:Register at <A href="http://www.eventbrite.com/event/5218988134">www.eventbrite.com/event/5218988134</A>
LOCATION:Citibank
UID:e.2096.1143
SEQUENCE:3
DTSTAMP:20260421T115053Z
URL:https://network.garlandchamber.com/events/details/seminar-china-sales-best-practices-02-21-2013-1143
END:VEVENT

END:VCALENDAR
