BEGIN:VCALENDAR
VERSION:2.0
PRODID:-//ChamberMaster//Event Calendar 2.0//EN
METHOD:PUBLISH
X-PUBLISHED-TTL:P3D
REFRESH-INTERVAL:P3D
CALSCALE:GREGORIAN
BEGIN:VEVENT
DTSTART:20120821T130000Z
DTEND:20120822T020000Z
X-MICROSOFT-CDO-ALLDAYEVENT:FALSE
SUMMARY:Seminar: Top Ten Things Employers Should Know About Health Care Reform
DESCRIPTION:Join the Small Business Development Center\, Chamber of Commerce and Garland Downtown Business Association for a FREE seminar titled\, "Top Ten Things Employers Should Know About Health Care Reform" from 8 to 9 a.m. on Aug. 21\, 2012. Breakfast will be provided. Date: Aug. 21\, 2012Time: 8 to 9 a.m.Location: Richland College - Garland Campus\, Conference Room A Speaker: Di Ann Sanchez\, founder\, DAS HR Consulting LLC See the Event Flyer for Additional Details Register Now
X-ALT-DESC;FMTTYPE=text/html:<DIV style="FONT-FAMILY: Arial">Join the Small Business Development Center\, Chamber of Commerce and Garland Downtown Business Association for a FREE seminar titled\, "Top Ten Things Employers Should Know About Health Care Reform" from 8 to 9 a.m. on Aug. 21\, 2012. Breakfast will be provided.</DIV><DIV style="FONT-FAMILY: Arial">&nbsp\;</DIV><DIV style="FONT-FAMILY: Arial">Date: Aug. 21\, 2012</DIV><DIV style="FONT-FAMILY: Arial">Time: 8 to 9 a.m.</DIV><DIV style="FONT-FAMILY: Arial">Location: Richland College - Garland Campus\, Conference Room A</DIV><DIV style="FONT-FAMILY: Arial">&nbsp\;</DIV><DIV style="FONT-FAMILY: Arial">Speaker: Di Ann Sanchez\, founder\, DAS HR Consulting LLC</DIV><DIV style="FONT-FAMILY: Arial">&nbsp\;</DIV><DIV style="FONT-FAMILY: Arial"><A dataFld=0:0 href="http://www.garlandchamber.com/images/stories/chamber/Member%20Promotions/SBDC%20Obama%20Care%20Event%20Flyer.pdf">See the Event Flyer for Additional Details</A></DIV><DIV style="FONT-FAMILY: Arial">&nbsp\;</DIV><DIV style="FONT-FAMILY: Arial"><A dataFld=0:0 href="http://conta.cc/PFEEPm">Register Now</A></DIV><DIV style="FONT-FAMILY: Arial">&nbsp\;</DIV><DIV style="FONT-FAMILY: Arial">&nbsp\;</DIV>
LOCATION:Richland College
UID:e.2096.1077
SEQUENCE:3
DTSTAMP:20260421T204820Z
URL:https://network.garlandchamber.com/events/details/seminar-top-ten-things-employers-should-know-about-health-care-reform-08-21-2012-1077
END:VEVENT

END:VCALENDAR
