BEGIN:VCALENDAR
VERSION:2.0
PRODID:-//ChamberMaster//Event Calendar 2.0//EN
METHOD:PUBLISH
X-PUBLISHED-TTL:P3D
REFRESH-INTERVAL:P3D
CALSCALE:GREGORIAN
BEGIN:VEVENT
DTSTART:20060914T050000Z
DTEND:20060914T050000Z
X-MICROSOFT-CDO-ALLDAYEVENT:FALSE
SUMMARY:September A.M. Connections Event
DESCRIPTION:September A.M. Connections Event
X-ALT-DESC;FMTTYPE=text/html:September A.M. Connections Event
LOCATION:
UID:e.2096.1617
SEQUENCE:3
DTSTAMP:20260426T014537Z
URL:https://network.garlandchamber.com/events/details/september-a-m-connections-event-09-14-2006-1617
END:VEVENT

END:VCALENDAR
