BEGIN:VCALENDAR
VERSION:2.0
PRODID:-//ChamberMaster//Event Calendar 2.0//EN
METHOD:PUBLISH
X-PUBLISHED-TTL:P3D
REFRESH-INTERVAL:P3D
CALSCALE:GREGORIAN
BEGIN:VEVENT
DTSTART:20060919T050000Z
DTEND:20060919T050000Z
X-MICROSOFT-CDO-ALLDAYEVENT:FALSE
SUMMARY:September Business Seminar
DESCRIPTION:September Business Seminar
X-ALT-DESC;FMTTYPE=text/html:September Business Seminar
LOCATION:Holiday Inn
UID:e.2096.1619
SEQUENCE:3
DTSTAMP:20260426T014542Z
URL:https://network.garlandchamber.com/events/details/september-business-seminar-09-19-2006-1619
END:VEVENT

END:VCALENDAR
