BEGIN:VCALENDAR
VERSION:2.0
PRODID:-//ChamberMaster//Event Calendar 2.0//EN
METHOD:PUBLISH
X-PUBLISHED-TTL:P3D
REFRESH-INTERVAL:P3D
CALSCALE:GREGORIAN
BEGIN:VEVENT
DTSTART:20120925T130000Z
DTEND:20120925T140000Z
X-MICROSOFT-CDO-ALLDAYEVENT:FALSE
SUMMARY:September V.I.P. Coffee
DESCRIPTION:Need resources to help you get connected and make your \nbusiness more successful? Have specific business needs or concerns? Wondering how the Garland Chamber truly benefit your business? Join us for V.I.P. Coffee to network and discuss the things that keep you up at night. Learn more about how the Chamber works each day to offer businesses more exposure and to strategically connect them with prospective customers and partners. This is your opportunity to obtain more information on the various resources that the Chamber\, the City and the government has available to help your business grow and be successful. Attendees will also have an opportunity to ask questions about the Chamber or City of Garland. Meet the Chamber staff and Garland Small Business Development Center counselor. There is no cost to attend. We look forward to meeting you! Contact Kisha Allen at (469) 326-7454 or kisha.allen@garlandchamber.com for additional information. Please RSVP by September 21st.
X-ALT-DESC;FMTTYPE=text/html:<DIV style="FONT-FAMILY: Arial">Need resources to help you get&nbsp\;connected and make your <BR>business more successful?</DIV><DIV style="FONT-FAMILY: Arial">&nbsp\;</DIV><DIV style="FONT-FAMILY: Arial">Have specific&nbsp\;business needs or concerns?</DIV><DIV style="FONT-FAMILY: Arial">&nbsp\;</DIV><DIV style="FONT-FAMILY: Arial">Wondering how the Garland Chamber truly benefit your business?</DIV><DIV style="FONT-FAMILY: Arial">&nbsp\;</DIV><DIV style="FONT-FAMILY: Arial">Join us for V.I.P. Coffee to network and discuss the things that keep you up at night. Learn more about how the Chamber works each day to offer businesses more exposure and to strategically connect them with prospective customers and partners. This is your opportunity to obtain more information on the various resources that the Chamber\, the City and the government has available to help your business grow and be successful. Attendees will also have an opportunity to ask questions about the Chamber or City of Garland. Meet the Chamber staff and Garland Small Business Development Center counselor. There is no cost to attend.</DIV><DIV style="FONT-FAMILY: Arial">&nbsp\;</DIV><DIV style="FONT-FAMILY: Arial">We look forward to meeting you!</DIV><DIV style="FONT-FAMILY: Arial">&nbsp\;</DIV><DIV style="FONT-FAMILY: Arial">Contact Kisha Allen at (469) 326-7454 or <A href="mailto:kisha.allen@garlandchamber.com">kisha.allen@garlandchamber.com</A> for additional information. Please&nbsp\;RSVP by September 21st.</DIV>
LOCATION:Garland Chamber of Commerce
UID:e.2096.1088
SEQUENCE:3
DTSTAMP:20260421T204446Z
URL:https://network.garlandchamber.com/events/details/september-v-i-p-coffee-09-25-2012-1088
END:VEVENT

END:VCALENDAR
