BEGIN:VCALENDAR
VERSION:2.0
PRODID:-//ChamberMaster//Event Calendar 2.0//EN
METHOD:PUBLISH
X-PUBLISHED-TTL:P3D
REFRESH-INTERVAL:P3D
CALSCALE:GREGORIAN
BEGIN:VEVENT
DTSTART:20060920T050000Z
DTEND:20060920T050000Z
X-MICROSOFT-CDO-ALLDAYEVENT:FALSE
SUMMARY:September VIP Coffee 2006
DESCRIPTION:September VIP Coffee 2006
X-ALT-DESC;FMTTYPE=text/html:September VIP Coffee 2006
LOCATION:
UID:e.2096.1622
SEQUENCE:3
DTSTAMP:20260426T014450Z
URL:https://network.garlandchamber.com/events/details/september-vip-coffee-2006-09-20-2006-1622
END:VEVENT

END:VCALENDAR
