BEGIN:VCALENDAR
VERSION:2.0
PRODID:-//ChamberMaster//Event Calendar 2.0//EN
METHOD:PUBLISH
X-PUBLISHED-TTL:P3D
REFRESH-INTERVAL:P3D
CALSCALE:GREGORIAN
BEGIN:VEVENT
DTSTART:20090224T200000Z
DTEND:20090224T060000Z
X-MICROSOFT-CDO-ALLDAYEVENT:FALSE
SUMMARY:Shepherd Painting Ribbon Cutting Ceremony
DESCRIPTION:
X-ALT-DESC;FMTTYPE=text/html:
LOCATION:Shepherd Painting
UID:e.2096.629
SEQUENCE:3
DTSTAMP:20260424T091455Z
URL:https://network.garlandchamber.com/events/details/shepherd-painting-ribbon-cutting-ceremony-02-24-2009-629
END:VEVENT

END:VCALENDAR
